BEGIN:VCALENDAR
VERSION:2.0
PRODID:-//Melrose Plaza Roanoke - ECPv6.15.17//NONSGML v1.0//EN
CALSCALE:GREGORIAN
METHOD:PUBLISH
X-ORIGINAL-URL:https://melroseplazaroanoke.com
X-WR-CALDESC:Events for Melrose Plaza Roanoke
REFRESH-INTERVAL;VALUE=DURATION:PT1H
X-Robots-Tag:noindex
X-PUBLISHED-TTL:PT1H
BEGIN:VTIMEZONE
TZID:America/New_York
BEGIN:DAYLIGHT
TZOFFSETFROM:-0500
TZOFFSETTO:-0400
TZNAME:EDT
DTSTART:20250309T070000
END:DAYLIGHT
BEGIN:STANDARD
TZOFFSETFROM:-0400
TZOFFSETTO:-0500
TZNAME:EST
DTSTART:20251102T060000
END:STANDARD
BEGIN:DAYLIGHT
TZOFFSETFROM:-0500
TZOFFSETTO:-0400
TZNAME:EDT
DTSTART:20260308T070000
END:DAYLIGHT
BEGIN:STANDARD
TZOFFSETFROM:-0400
TZOFFSETTO:-0500
TZNAME:EST
DTSTART:20261101T060000
END:STANDARD
BEGIN:DAYLIGHT
TZOFFSETFROM:-0500
TZOFFSETTO:-0400
TZNAME:EDT
DTSTART:20270314T070000
END:DAYLIGHT
BEGIN:STANDARD
TZOFFSETFROM:-0400
TZOFFSETTO:-0500
TZNAME:EST
DTSTART:20271107T060000
END:STANDARD
END:VTIMEZONE
BEGIN:VEVENT
DTSTART;TZID=America/New_York:20260520T173000
DTEND;TZID=America/New_York:20260520T193000
DTSTAMP:20260422T060835
CREATED:20260417T144616Z
LAST-MODIFIED:20260417T145210Z
UID:1893-1779298200-1779305400@melroseplazaroanoke.com
SUMMARY:Harrison Museum: Movie Screening - Ayiti: The Awakening
DESCRIPTION:Ayiti: The Awakening \nDoors open at 5:30 pm with a 6 pm start time. Q&A participation with Director and Producer Sage Love. \nSynopsis – The documentary explores Haiti’s revolutionary legacy and the resilience of its people following the 2010 earthquake\, highlighting the nation’s enduring spirit and historical significance. \nTICKETS: $10 \nFor more information & tickets: https://harrisonmuseum.app.neoncrm.com/nx/portal/neonevents/events?path=%2Fportal%2Fevents%2F40250 \nThis event will be held in the Harrison Museum.
URL:https://melroseplazaroanoke.com/events/harrison-museum-movie-screening-ayiti-the-awakening/
LOCATION:Melrose Plaza\, 2502 Melrose Ave NW\, Roanoke\, VA\, 24017\, United States
END:VEVENT
END:VCALENDAR