BEGIN:VCALENDAR
VERSION:2.0
PRODID:-//Melrose Plaza Roanoke - ECPv6.15.17//NONSGML v1.0//EN
CALSCALE:GREGORIAN
METHOD:PUBLISH
X-WR-CALNAME:Melrose Plaza Roanoke
X-ORIGINAL-URL:https://melroseplazaroanoke.com
X-WR-CALDESC:Events for Melrose Plaza Roanoke
REFRESH-INTERVAL;VALUE=DURATION:PT1H
X-Robots-Tag:noindex
X-PUBLISHED-TTL:PT1H
BEGIN:VTIMEZONE
TZID:America/New_York
BEGIN:DAYLIGHT
TZOFFSETFROM:-0500
TZOFFSETTO:-0400
TZNAME:EDT
DTSTART:20250309T070000
END:DAYLIGHT
BEGIN:STANDARD
TZOFFSETFROM:-0400
TZOFFSETTO:-0500
TZNAME:EST
DTSTART:20251102T060000
END:STANDARD
BEGIN:DAYLIGHT
TZOFFSETFROM:-0500
TZOFFSETTO:-0400
TZNAME:EDT
DTSTART:20260308T070000
END:DAYLIGHT
BEGIN:STANDARD
TZOFFSETFROM:-0400
TZOFFSETTO:-0500
TZNAME:EST
DTSTART:20261101T060000
END:STANDARD
BEGIN:DAYLIGHT
TZOFFSETFROM:-0500
TZOFFSETTO:-0400
TZNAME:EDT
DTSTART:20270314T070000
END:DAYLIGHT
BEGIN:STANDARD
TZOFFSETFROM:-0400
TZOFFSETTO:-0500
TZNAME:EST
DTSTART:20271107T060000
END:STANDARD
END:VTIMEZONE
BEGIN:VEVENT
DTSTART;TZID=America/New_York:20260422T173000
DTEND;TZID=America/New_York:20260422T190000
DTSTAMP:20260422T055400
CREATED:20260313T184057Z
LAST-MODIFIED:20260313T184057Z
UID:1845-1776879000-1776884400@melroseplazaroanoke.com
SUMMARY:Harrison Museum: Movie Screening - The Secret Pollinators
DESCRIPTION:Join the Harrison Museum of African American Culture for Movie Screening – The Secret Pollinators. \nQ&A Format: Virtual Q&A with Director Nola D. Oracle\nFilm Length: 22 minutes \nCost: $10Learn more or register: https://harrisonmuseum.com/ \nThis event will be held in the Harrison Museum.
URL:https://melroseplazaroanoke.com/events/harrison-museum-movie-screening-the-secret-pollinators/
LOCATION:Melrose Plaza\, 2502 Melrose Ave NW\, Roanoke\, VA\, 24017\, United States
END:VEVENT
END:VCALENDAR