BEGIN:VCALENDAR
VERSION:2.0
PRODID:-//Melrose Plaza Roanoke - ECPv6.15.17//NONSGML v1.0//EN
CALSCALE:GREGORIAN
METHOD:PUBLISH
X-ORIGINAL-URL:https://melroseplazaroanoke.com
X-WR-CALDESC:Events for Melrose Plaza Roanoke
REFRESH-INTERVAL;VALUE=DURATION:PT1H
X-Robots-Tag:noindex
X-PUBLISHED-TTL:PT1H
BEGIN:VTIMEZONE
TZID:America/New_York
BEGIN:DAYLIGHT
TZOFFSETFROM:-0500
TZOFFSETTO:-0400
TZNAME:EDT
DTSTART:20250309T070000
END:DAYLIGHT
BEGIN:STANDARD
TZOFFSETFROM:-0400
TZOFFSETTO:-0500
TZNAME:EST
DTSTART:20251102T060000
END:STANDARD
BEGIN:DAYLIGHT
TZOFFSETFROM:-0500
TZOFFSETTO:-0400
TZNAME:EDT
DTSTART:20260308T070000
END:DAYLIGHT
BEGIN:STANDARD
TZOFFSETFROM:-0400
TZOFFSETTO:-0500
TZNAME:EST
DTSTART:20261101T060000
END:STANDARD
BEGIN:DAYLIGHT
TZOFFSETFROM:-0500
TZOFFSETTO:-0400
TZNAME:EDT
DTSTART:20270314T070000
END:DAYLIGHT
BEGIN:STANDARD
TZOFFSETFROM:-0400
TZOFFSETTO:-0500
TZNAME:EST
DTSTART:20271107T060000
END:STANDARD
END:VTIMEZONE
BEGIN:VEVENT
DTSTART;TZID=America/New_York:20260321T110000
DTEND;TZID=America/New_York:20260321T140000
DTSTAMP:20260422T061456
CREATED:20260212T203127Z
LAST-MODIFIED:20260212T203127Z
UID:1742-1774090800-1774101600@melroseplazaroanoke.com
SUMMARY:Harrison Museum: Stop the Bleed Training Session
DESCRIPTION:Radford School of Public Health: Stop the Bleed training session. Learn how to control bleeding and traumatic injuries. \n1st Session at 11:00 am and 2nd Session at 12:30 pm. \nRegistration Required. For more information visit: https://harrisonmuseum.com/events/. \nThis event will be held in the Harrison Museum.
URL:https://melroseplazaroanoke.com/events/harrison-museum-stop-the-bleed-training-session/
LOCATION:Melrose Plaza\, 2502 Melrose Ave NW\, Roanoke\, VA\, 24017\, United States
END:VEVENT
BEGIN:VEVENT
DTSTART;TZID=America/New_York:20260321T130000
DTEND;TZID=America/New_York:20260321T170000
DTSTAMP:20260422T061456
CREATED:20260224T160647Z
LAST-MODIFIED:20260224T160647Z
UID:1786-1774098000-1774112400@melroseplazaroanoke.com
SUMMARY:EmpowHER Women’s Resource Fair
DESCRIPTION:Join us for an afternoon dedicated to uplifting women through connection\, resources\, and inspiration. The EmpowHER Women’s Resource Fair will feature women-owned businesses\, vendors focused on services for women\, and live musical entertainment. \nIn partnership with members of the Divine Nine and Diane Speaks\, this event creates a vibrant space to support\, empower\, and celebrate women. \nThis event will be held in the Common area at Melrose Plaza.
URL:https://melroseplazaroanoke.com/events/empowher-womens-resource-fair/
LOCATION:Melrose Plaza\, 2502 Melrose Ave NW\, Roanoke\, VA\, 24017\, United States
END:VEVENT
BEGIN:VEVENT
DTSTART;TZID=America/New_York:20260321T163000
DTEND;TZID=America/New_York:20260321T183000
DTSTAMP:20260422T061456
CREATED:20260212T203434Z
LAST-MODIFIED:20260212T203835Z
UID:1744-1774110600-1774117800@melroseplazaroanoke.com
SUMMARY:Harrison Museum: Soul Serenity – Session 4
DESCRIPTION:Soul Serenity – Session 4: A restorative poetry and wellness gathering celebrating creativity\, clarity\, and communal renewal. \nTICKETS: Advance ticket $10 / $15 at the door \nFor more information visit: https://harrisonmuseum.com/events/. \nThis event will be held in the Harrison Museum.
URL:https://melroseplazaroanoke.com/events/harrison-museum-soul-serenity-session-4/
LOCATION:Melrose Plaza\, 2502 Melrose Ave NW\, Roanoke\, VA\, 24017\, United States
END:VEVENT
END:VCALENDAR